Workbook

Sheet ТЕЛЕЖКИ_ИНСТРУМЕНТАЛЬНЫЕ
A1: прайс-лист ООО "АССИСТЕНТ_от 01.04.2025г. Производство/Склад: г Рязань, ул. Связи д 25 стр.2 тел.: +7 (920) 99-222-99 assiatant-mebel@mail.ru www.верстак-купить.рф Промышленная мебель для мастерской и гаража "КОГДА СРАВНИВАЮТ- ВЫБИРАЮТ НАС"
A2: Покраска порошковая, структура гладкая: основной цвет RAL 7016 матовый, темный графит, цвет ручек: R - ярко красный RAL 3026; B - небесно синий RAL 5015; S - серебристый металлик RAL 3024; Возможна покраска в другие цвета
E3: Цена РРЦ с НДС | F3: Цена РРЦ без НДС
A4: 1 | B4: Т-5.77 | D4: Тележка инструментальная с 5 ящиками р-р: 725х450х767Н мм Нагрузка: на ящик 40кг, на тележку 270кг Высотая ящ: 3х80; 2х160мм, полезный р-р: 570х415мм Колеса-100мм, все поворотные, два с тормозом Вес: 45 кг. V-0,2 куб. м. | E4: 25269.844 | F4: =E4*0.9 -> 22742.86
A5: 2 | B5: Т-5.77F | D5: Тележка инструментальная с 5 ящиками р-р: 725х450х767Н мм с фиксатором ящиков от произвольного выкатывания | E5: =E4+3000 -> 28269.844 | F5: =E5*0.9 -> 25442.86
A6: 3 | B6: Т-6.77 | D6: Тележка инструментальная с 6 ящиками р-р: 725х450х767Н мм Нагрузка: на ящик 40кг, на тележку 270кг Высотая ящ: 5х80; 1х160мм, полезный р-р: 570х415мм Колеса-100мм, все поворотные, два с тормозом Вес: 48 кг. V-0,2 куб. м. | E6: 26650 | F6: =E6*0.9 -> 23985
A7: 4 | B7: Т-6.77F | D7: Тележка инструментальная с 6 ящиками р-р: 725х450х767Н мм с фиксатором ящиков от произвольного выкатывания | E7: =E6+3600 -> 30250 | F7: =E7*0.9 -> 27225
A8: 5 | B8: Т-6.93 | D8: Тележка инструментальная с 6 ящиками р-р: 725х450х930Н мм Нагрузка: на ящик 40кг, на тележку 270кг Высотая ящ: 3х80; 3х160мм, полезный р-р: 570х415мм Колеса-100мм, все поворотные, два с тормозом Вес: 50 кг. V-0,2 куб. м. | E8: 28130.558 | F8: =E8*0.9 -> 25317.502
A9: 6 | B9: Т-6.93F | D9: Тележка инструментальная с 6 ящиками р-р: 725х450х930Н мм с фиксатором ящиков от произвольного выкатывания | E9: =E8+3600 -> 31730.558 | F9: =E9*0.9 -> 28557.502
A10: 7 | B10: Т-7.93 | D10: Тележка инструментальная с 7 ящиками р-р: 725х450х930Н мм Нагрузка: на ящик 40кг, на тележку 270кг Высотая ящ: 5х80; 2х160мм, полезный р-р: 570х415мм Колеса-100мм, все поворотные, два с тормозом Вес: 53 кг. V-0,2 куб. м. | E10: 30991.271 | F10: =E10*0.9 -> 27892.144
A11: 8 | B11: Т-7.93F | D11: Тележка инструментальная с 7 ящиками р-р: 725х450х930Н мм с фиксатором ящиков от произвольного выкатывания | E11: =E10+4200 -> 35191.271 | F11: =E11*0.9 -> 31672.144
A12: 9 | B12: Т-0.72 | D12: Тележка инструментальная с 3 полками р-р: 805х410х720Н мм Нагрузка: на полку 70кг, на тележку 100кг Колеса-75мм,(2 не пов + 1 пов+1пов с тормозом) Вес: 11кг. V-0,06 куб. м. | E12: 6355 | F12: =E12*0.9 -> 5719.5
A13: 10 | B13: Т-0.93 | D13: Тележка инструментальная с 3 полками р-р: 805х450х930Н мм Перфорированные панели для крепления навесных держателей Нагрузка: на полку 100кг, на тележку 150кг Колеса-100мм, все поворотные, два с тормозом Вес: 18кг. V-0,07 куб. м. | E13: 9666.2029 | F13: =E13*0.9 -> 8699.5826

Sheet ВЕРСТАКИ_СТОЛЫ ПРОМЫШЛЕННЫЕ
A1: прайс-лист ООО "АССИСТЕНТ_от 01.04.2025г. Производство/Склад: г Рязань, ул. Связи д 25 стр.2 тел.: +7 (920) 99-222-99 assiatant-mebel@mail.ru www.верстак-купить.рф Промышленная мебель для мастерской и гаража "КОГДА СРАВНИВАЮТ- ВЫБИРАЮТ НАС"
A2: Покраска порошковая, структура гладкая: основной цвет RAL 7016 матовый, темный графит, цвет ручек: R - ярко красный RAL 3026; B - небесно синий RAL 5015; S - серебристый металлик RAL 3024; Возможна покраска в другие цвета
E3: Цена РРЦ с НДС | F3: Цена РРЦ без НДС
A4: 1 | B4: W-14G | D4: Верстак бестумбовый 1390х686х847Нмм (нагрузка 300кг) ✓Столешница 1390х685х27мм. МДФ+Оцинк. Кожух 1,2мм ✓Силовая балка 1250х125х25 мм ✓Две Верстачных опоры Ш-75мм Вес: 40 кг. Объем: 0,16 куб. м. | E4: =E40*2+E41+E42 -> 11005.008 | F4: =E4*0.9 -> 9904.5073
A5: 2 | B5: W-14G + T-6.77 | D5: Верстак бестумбовый 1390х686х847Нмм Подкатная тележка с 6 ящиками 725х450х767Нмм | E5: =E4+ТЕЛЕЖКИ_ИНСТРУМЕНТАЛЬНЫЕ!E6 -> 37655.008 | F5: =E5*0.9 -> 33889.507
A6: 3 | B6: W-14G-0 | D6: Верстак однотумбовый 1390х686х847Нмм (нагрузка 300кг) ✓Тумба с дверцей и 2 полками Р-р: 500х600х820Н мм (нагрузка на полку 50кг) ✓Столешница 1390х685х27мм. МДФ+Оцинк. Кожух 1,2мм ✓Полка и стенка шириной 730мм (нагрузка 60кг) ✓Верстачная опора Ш-75мм Вес: 38 кг. Объем: 0,5 куб. м. | E6: =E42+E37+E39+E40 -> 23004.257 | F6: =E6*0.9 -> 20703.831
A7: 4 | B7: W-14G-0 + T-6.77 | D7: Верстак однотумбовый 1390х686х847Нмм Подкатная тележка с 6 ящиками 725х450х767Нмм | E7: =E6+ТЕЛЕЖКИ_ИНСТРУМЕНТАЛЬНЫЕ!E6-'ВЕРСТАКИ_СТОЛЫ ПРОМЫШЛЕННЫЕ'!E39 -> 46960.829 | F7: =E7*0.9 -> 42264.746
A8: 5 | B8: W-14G-5 | D8: Верстак однотумбовый 1390х686х847Нмм (нагрузка 500кг) ✓Тумба с 5 ящиками Р-р: 500х600х820Н мм (нагрузка на ящик 40кг) Высотая ящ: 2х80; 3х170мм, полезный р-р: 570х400мм ✓Столешница 1390х685х27мм. МДФ+Оцинк. Кожух 1,2мм ✓Полка и стенка шириной 730мм (нагрузка 60кг) ✓Верстачная опора Ш-75мм Вес: 60,5 кг. Объем: 0,5 куб. м. | E8: =E38+E39+E40+E42 -> 34317.1 | F8: =E8*0.9 -> 30885.39
A9: 6 | B9: W-14G-05 | D9: Верстак двухтумбовый 1390х686х847Нмм (нагрузка 750кг) ✓Тумба с 5 ящиками Р-р: 500х600х820Н мм (нагрузка на ящик 40кг) Высотая ящ: 2х80; 3х170мм, полезный р-р: 570х400мм ✓Тумба с дверцей и 2 полками Р-р: 500х600х820Н мм (нагрузка на полку 50кг) ✓Столешница 1390х685х27мм. МДФ+Оцинк. Кожух 1,2мм Вес: 74 кг. Объем: 0,6 куб. м. | E9: =E37+E38+E42 -> 41856.186 | F9: =E9*0.9 -> 37670.567
A10: 7 | B10: W-18G-00 | D10: Верстак двухтумбовый 1800х686х847Нмм (нагрузка 500кг) ✓Две Тумбы с дверцей и 2 полками Р-р: 500х600х820Н мм (нагрузка на полку 50кг) ✓Столешница 1390х685х27мм. МДФ+Оцинк. Кожух 1,2мм ✓Полка и стенка шириной 730мм (нагрузка 60кг) Вес: 85 кг. Объем: 0,7 куб. м. | E10: =E37*2+E39+E43 -> 36017.771 | F10: =E10*0.9 -> 32415.994
A11: 8 | B11: W-18G-00 + T-6.77 | D11: Верстак двухтумбовый 1800х686х847Нмм Подкатная тележка с 6 ящиками 725х450х767Нмм | E11: =E10-E39+ТЕЛЕЖКИ_ИНСТРУМЕНТАЛЬНЫЕ!E6 -> 59974.343 | F11: =E11*0.9 -> 53976.909
A12: 9 | B12: W-18G-05 | D12: Верстак двухтумбовый 1800х686х847Нмм (нагрузка 750кг) ✓Тумба с 5 ящиками Р-р: 500х600х820Н мм (нагрузка на ящик 40кг) Высотая ящ: 2х80; 3х170мм, полезный р-р: 570х400мм ✓Тумба с дверцей и 2 полками Р-р: 500х600х820Н мм (нагрузка на полку 50кг) ✓Столешница 1800х685х27мм. МДФ+Оцинк. Кожух 1,2мм ✓Полка и стенка шириной 730мм (нагрузка 60кг) Вес: 107,5 кг. Объем: 0,7 куб. м. | E12: =E37+E38+E39+E43 -> 47330.615 | F12: =E12*0.9 -> 42597.553
A13: 10 | B13: W-18G-05 + T-6.77 | D13: Верстак двухтумбовый 1800х686х847Нмм Подкатная тележка с 6 ящиками 725х450х767Нмм | E13: =E12-E39+ТЕЛЕЖКИ_ИНСТРУМЕНТАЛЬНЫЕ!E6 -> 71287.186 | F13: =E13*0.9 -> 64158.467
A14: 11 | B14: W-18G-55 | D14: Верстак двухтумбовый 1800х686х847Нмм (нагрузка 750кг) ✓Две Тумбы с 5 ящиками Р-р: 500х600х820Н мм (нагрузка на ящик 40кг) Высотая ящ: 2х80; 3х170мм, полезный р-р: 570х400мм ✓Столешница 1800х685х27мм. МДФ+Оцинк. Кожух 1,2мм ✓Полка и стенка шириной 730мм (нагрузка 60кг) Вес: 130 кг. Объем: 0,7 куб. м. | E14: =E38*2+E39+E45 -> 53783.029 | F14: =E14*0.9 -> 48404.726
A15: 12 | B15: W-18G-55 + T-6.77 | D15: Верстак двухтумбовый 1800х686х847Нмм Подкатная тележка с 6 ящиками 725х450х767Нмм | E15: =E14-E39+ТЕЛЕЖКИ_ИНСТРУМЕНТАЛЬНЫЕ!E6 -> 77739.601 | F15: =E15*0.9 -> 69965.641
A16: 13 | B16: Р1-14 | D16: Экран одинарный 1390х500х30мм. с кронштейнами (квадратная перфорация 10х10мм) Вес: 9 кг. Объем: 0,05 куб. м | E16: =E44+E48 -> 4092.9429 | F16: =E16*0.9 -> 3683.6486
A17: 14 | B17: Р1-18 | D17: Экран одинарный 1800х500х30мм. с кронштейнами (квадратная перфорация 10х10мм) Вес: 12 кг. Объем: 0,08 куб. м | E17: =E45+E48 -> 5055.6 | F17: =E17*0.9 -> 4550.04
A18: 15 | B18: Р2-14 | D18: Экран двойной 1390х1000х30мм. с кронштейнами (квадратная перфорация 10х10мм) Вес: 20 кг. Объем: 0,05 куб. м | E18: =E44*2+E48+E49 -> 8304.551 | F18: =E18*0.9 -> 7474.0959
A19: 16 | B19: Р2-18 | D19: Экран двойной 1800х1000х30мм. с кронштейнами (квадратная перфорация 10х10мм) Вес: 26 кг. Объем: 0,08 куб. м | E19: =E45*2+E48+E49 -> 10229.865 | F19: =E19*0.9 -> 9206.8788
A20: 17 | B20: А-1 | D20: Кронштейны освещения - универсальные | E20: 1212.0429 | F20: =E20*0.9 -> 1090.8386
A21: 18 | B21: Е-14 | D21: E-14 Электромонтажная панель 1390х100х30мм. для самостоятельного размещения эл оборудования | E21: 1150.2857 | F21: =E21*0.9 -> 1035.2571
A22: 19 | B22: Е-18 | D22: E-18 Электромонтажная панель 1800х100х30мм. для самостоятельного размещения эл оборудования | E22: 1507 | F22: =E22*0.9 -> 1356.3
A23: 20 | B23: К-1 | D23: Крючок одинарный L-80мм | E23: 255 | F23: =E23*0.9 -> 229.5
A24: 21 | B24: К-2 | D24: Крючок двойной L-80мм | E24: 315 | F24: =E24*0.9 -> 283.5
A25: 22 | B25: К-3 | D25: Крючок круглый D-60мм | E25: 315 | F25: =E25*0.9 -> 283.5
A26: 23 | B26: К-7 | D26: Крючок с пружинной фиксацией | E26: 390 | F26: =E26*0.9 -> 351
A27: 24 | B27: D-3 | D27: Полка навесная для баллончиков и метизов Размер (ШхГхВ): 270х70х30-70h мм | E27: 526.33205 | F27: =E27*0.9 -> 473.69884
A28: 25 | B28: D-2 | D28: Полка навесная малая Размер (ШхГхВ): 320х150х10-70h мм. | E28: 606.02317 | F28: =E28*0.9 -> 545.42085
A29: 26 | B29: D-1 | D29: Полка навесная большая Размер (ШхГхВ): 560х135х10-70h мм. | E29: 789.49807 | F29: =E29*0.9 -> 710.54826
A30: 27 | B30: D-6 | D30: Держатель с прижимом для чертежей | E30: 694 | F30: =E30*0.9 -> 624.6
A31: 28 | B31: D-5 | D31: Держатель инструмента универсальный Размер (ШхГхВ): 360х40х40h мм. | E31: 539.30502 | F31: =E31*0.9 -> 485.37452
... A35: 32 | B35: D-12 | D35: Держатель для пластиковых ящиков L-190мм | E35: 289.11197 | F35: =E35*0.9 -> 260.20077
A36: КОМПЛЕКТУЮЩИЕ ВЕРСТАКОВ | E36: Цена РРЦ с НДС | F36: Цена РРЦ без НДС
A37: 1 | B37: W-410 | D37: Тумба верстачная с дверцей 500х600х820Н мм Вес: 23 кг. V-0,3 куб. м. | E37: 12108.171 | F37: =E37*0.9 -> 10897.354
A38: 2 | B38: W-405 | D38: Тумба верстачная с 5 ящиками 500х600х820Нмм Вес: 48 кг. V-0,3 куб. м. | E38: 23421.015 | F38: =E38*0.9 -> 21078.913
A39: 3 | B39: W-500 | D39: Полка и стенка шириной 730мм Вес: 4 кг. V-0,02 куб. м. | E39: 2693.4286 | F39: =E39*0.9 -> 2424.0857
A40: 4 | B40: W-503 | D40: Верстачная опора 820мм Вес: 9 кг. V-0,09 куб. м. | E40: 1875.6571 | F40: =E40*0.9 -> 1688.0914
A41: 5 | B41: W-501 | D41: Балка силовая для верстака 1250х125х25 мм Вес: 4,5 кг. V-0,01 куб. м. | E41: 926.69388 | F41: =E41*0.9 -> 834.02449
A42: 6 | B42: W-314 | D42: Столешница 1390х685х26мм. Вес: 27 кг. V-0,05 куб. м. | E42: 6327 | F42: =E42*0.9 -> 5694.3
A43: 7 | B43: W-318 | D43: Столешница 1800х685х26мм. Вес: 35 кг. V-0,07 куб. м. | E43: 9108 | F43: =E43*0.9 -> 8197.2
A44: 8 | B44: Р-14 | D44: Перфоэкран 1390х500х30мм. Вес: 7 кг. V-0,04 куб. м. | E44: 3284.9143 | F44: =E44*0.9 -> 2956.4229
A45: 9 | B45: Р-18 | D45: Перфоэкран 1800х500х30мм. Вес: 9 кг. V-0,06 куб. м. | E45: 4247.5714 | F45: =E45*0.9 -> 3822.8143
A46: 10 | B46: Р-10 | D46: Перфоэкран 1000х500х30мм. Вес: 5 кг. V-0,03 куб. м. | E46: 2738 | F46: =E46*0.9 -> 2464.2
A47: 11 | B47: Р-15 | D47: Перфоэкран 1500х500х30мм. Вес: 8 кг. V-0,05 куб. м. | E47: 3532 | F47: =E47*0.9 -> 3178.8
A48: 12 | B48: А-3 | D48: Кронштейны - косынки для крепления 1-го экрана | E48: 808.02857 | F48: =E48*0.9 -> 727.22571
... A52: 16 | B52: А-1 | D52: Кронштейны освещения (универсальные) | E52: 1212 | F52: =E52*0.9 -> 1090.8

Sheet ШКАФЫ ИНСТУМЕНТАЛЬНЫЕ
A1: прайс-лист ООО "АССИСТЕНТ_от 01.04.2025г. Производство/Склад: г Рязань, ул. Связи д 25 стр.2 тел.: +7 (920) 99-222-99 assiatant-mebel@mail.ru www.верстак-купить.рф Промышленная мебель для мастерской и гаража "КОГДА СРАВНИВАЮТ- ВЫБИРАЮТ НАС"
A2: Покраска порошковая, структура гладкая: основной цвет RAL 7016 матовый, темный графит, цвет ручек: R - ярко красный RAL 3026; B - небесно синий RAL 5015; S - серебристый металлик RAL 3024; Возможна покраска в другие цвета
E3: Цена РРЦ с НДС | F3: Цена РРЦ без НДС
A4: 1 | B4: С-0004 | D4: Шкаф для оснастки и инструмента с 4 полками Нагрузка: на полку 100кг. на шкаф 1000кг Размер: 950х500х1900hмм Вес: 74 кг. Объем: 0,96 куб. м. | E4: =E9+E10*4 -> 36153.114 | F4: =E4*0.9 -> 32537.803
A5: 2 | B5: С-0403 | D5: Шкаф для оснастки и инструмента с 3 полками и 4 ящиками Нагрузка: на ящик 40кг, на полку 100кг. на шкаф 1000кг Размер: 950х500х1900hмм Вес: 88 кг. Объем: 0,96 куб. м. | E5: =E9+E10*3+E11 -> 46992.114 | F5: =E5*0.9 -> 42292.903
A6: 3 | B6: С-0402/О | D6: Шкаф для оснастки и инструмента с 2 полками и 4 ящиками и вешалкой Нагрузка: на ящик 40кг, на полку 100кг. на шкаф 1000кг Размер: 950х500х1900hмм Вес: 88 кг. Объем: 0,96 куб. м. | E6: =E9+E10*2+E11+E12 -> 46648.114 | F6: =E6*0.9 -> 41983.303
A7: 4 | B7: С-W0000 | D7: Шкаф 4х дверный на 12 отделений Нагрузка: на полку 50кг. на шкаф 600кг Размер: 1000х600х1570hмм Вес: 92 кг. Объем: 1,0 куб. м. | E7: ='ВЕРСТАКИ_СТОЛЫ ПРОМЫШЛЕННЫЕ'!E37*4 -> 48432.686 | F7: =E7*0.9 -> 43589.417
A8: КОМПЛЕКТУЮЩИЕ: Конструктор Шкафов | E8: Цена РРЦ с НДС | F8: Цена РРЦ без НДС
A9: 1 | B9: С-0000 | D9: Корпус шкафа Н-1900мм с дверями. Вес 58 кг. | E9: 29929.114 | F9: =E9*0.9 -> 26936.203
A10: 2 | B10: С-S1 | D10: Полка 890х425мм Вес: 4 кг. | E10: 1556 | F10: =E10*0.9 -> 1400.4
A11: 3 | B11: С-D4 | D11: Комплект из 4х ящиков Вес: 21,6 кг. | E11: 12395 | F11: =E11*0.9 -> 11155.5
A12: 4 | B12: С-А1 | D12: Перекладина для одежды | E12: 1212 | F12: =E12*0.9 -> 1090.8
A13: 5 | B13: С-P1 | D13: Перфорированный экран 1/4 на заднюю стенку | E13: 2200 | F13: =E13*0.9 -> 1980
